BEGIN:VCALENDAR
VERSION:2.0
PRODID:-//AHCF - ECPv6.15.20//NONSGML v1.0//EN
CALSCALE:GREGORIAN
METHOD:PUBLISH
X-WR-CALNAME:AHCF
X-ORIGINAL-URL:https://ahckids.org
X-WR-CALDESC:Events for AHCF
REFRESH-INTERVAL;VALUE=DURATION:PT1H
X-Robots-Tag:noindex
X-PUBLISHED-TTL:PT1H
BEGIN:VTIMEZONE
TZID:America/New_York
BEGIN:DAYLIGHT
TZOFFSETFROM:-0500
TZOFFSETTO:-0400
TZNAME:EDT
DTSTART:20240310T070000
END:DAYLIGHT
BEGIN:STANDARD
TZOFFSETFROM:-0400
TZOFFSETTO:-0500
TZNAME:EST
DTSTART:20241103T060000
END:STANDARD
BEGIN:DAYLIGHT
TZOFFSETFROM:-0500
TZOFFSETTO:-0400
TZNAME:EDT
DTSTART:20250309T070000
END:DAYLIGHT
BEGIN:STANDARD
TZOFFSETFROM:-0400
TZOFFSETTO:-0500
TZNAME:EST
DTSTART:20251102T060000
END:STANDARD
BEGIN:DAYLIGHT
TZOFFSETFROM:-0500
TZOFFSETTO:-0400
TZNAME:EDT
DTSTART:20260308T070000
END:DAYLIGHT
BEGIN:STANDARD
TZOFFSETFROM:-0400
TZOFFSETTO:-0500
TZNAME:EST
DTSTART:20261101T060000
END:STANDARD
END:VTIMEZONE
BEGIN:VEVENT
DTSTART;VALUE=DATE:20250915
DTEND;VALUE=DATE:20250917
DTSTAMP:20260421T052028
CREATED:20250721T162300Z
LAST-MODIFIED:20250730T021510Z
UID:8547-1757894400-1758067199@ahckids.org
SUMMARY:ATP1A3 Symposium - September 15 & 16
DESCRIPTION:The 13th ATP1A3 in Disease Symposium will take place (virtually) on 15 and 16 September 2025  in Cairns\, Australia\, in conjunction with the  17th International Meeting on P-Type ATPases in Health & Disease \n\n\n\n\nThe Program of the 13th Symposium is set up to allow speakers and participants from  Australia and Asia Pacific \, but also  from all other parts of the world to join live or see the recorded sessions soon after the end of the streaming. There are two joint sessions with the 17th P-Type ATPase meeting that will be live-streamed from Cairns (15 Sep\, 18:00-19:30 AEST and 16 Sep\, 18:00-20:00 AEST). Here\, the time schedule of the Symposium. Warm welcome to delegates joining us virtually for the Symposium alone\, and to those joining in-person in Cairns\, Australia!Registration\nTo participate in the 13th Symposium\, you need to register on the site of the Conference https://iupab.org/atpase-conference-registration/. Early bird registration deadline is 25 July 2025.\n  \nUpdated Program NEW\nInvited Speakers NEW \nIf you have any issues or questions regarding registration and abstract submission\, please  email ronald.clarke@sydney.edu.au or  melody.li@florey.edu.au
URL:https://ahckids.org/event/atp1a3-symposium-september-15-16/
CATEGORIES:Upcoming Events
END:VEVENT
END:VCALENDAR