BEGIN:VCALENDAR
VERSION:2.0
PRODID:-//AHCF - ECPv6.15.20//NONSGML v1.0//EN
CALSCALE:GREGORIAN
METHOD:PUBLISH
X-ORIGINAL-URL:https://ahckids.org
X-WR-CALDESC:Events for AHCF
REFRESH-INTERVAL;VALUE=DURATION:PT1H
X-Robots-Tag:noindex
X-PUBLISHED-TTL:PT1H
BEGIN:VTIMEZONE
TZID:America/New_York
BEGIN:DAYLIGHT
TZOFFSETFROM:-0500
TZOFFSETTO:-0400
TZNAME:EDT
DTSTART:20250309T070000
END:DAYLIGHT
BEGIN:STANDARD
TZOFFSETFROM:-0400
TZOFFSETTO:-0500
TZNAME:EST
DTSTART:20251102T060000
END:STANDARD
BEGIN:DAYLIGHT
TZOFFSETFROM:-0500
TZOFFSETTO:-0400
TZNAME:EDT
DTSTART:20260308T070000
END:DAYLIGHT
BEGIN:STANDARD
TZOFFSETFROM:-0400
TZOFFSETTO:-0500
TZNAME:EST
DTSTART:20261101T060000
END:STANDARD
BEGIN:DAYLIGHT
TZOFFSETFROM:-0500
TZOFFSETTO:-0400
TZNAME:EDT
DTSTART:20270314T070000
END:DAYLIGHT
BEGIN:STANDARD
TZOFFSETFROM:-0400
TZOFFSETTO:-0500
TZNAME:EST
DTSTART:20271107T060000
END:STANDARD
END:VTIMEZONE
BEGIN:VEVENT
DTSTART;TZID=America/New_York:20260113T080000
DTEND;TZID=America/New_York:20260130T170000
DTSTAMP:20260420T213238
CREATED:20260113T104522Z
LAST-MODIFIED:20260113T104522Z
UID:9046-1768291200-1769792400@ahckids.org
SUMMARY:AHC Valentine’s Day Card Exchange
DESCRIPTION:Hello AHC families! It’s time for the AHC Valentine’s Day card exchange. This tradition began as a way to keep our children connected between family meetings\, back before social media. Everyone is welcome to join\, regardless of age! Each participant sends a card to all others—some choose photo cards\, handmade creations\, stickers\, or drawings and coloring. To join\, email your child’s name\, address\, and age to heather@ahckids.org by January 30th. A list of all participating will be emailed out to you by February 2nd.
URL:https://ahckids.org/event/ahc-valentines-day-card-exchange/
ATTACH;FMTTYPE=image/jpeg:https://ahckids.org/wp-content/uploads/2026/01/heart-love-rectangle-valentine-s-day-2432301-e1768301096574.jpg
END:VEVENT
END:VCALENDAR