BEGIN:VCALENDAR
VERSION:2.0
PRODID:-//AHCF - ECPv6.15.20//NONSGML v1.0//EN
CALSCALE:GREGORIAN
METHOD:PUBLISH
X-WR-CALNAME:AHCF
X-ORIGINAL-URL:https://ahckids.org
X-WR-CALDESC:Events for AHCF
REFRESH-INTERVAL;VALUE=DURATION:PT1H
X-Robots-Tag:noindex
X-PUBLISHED-TTL:PT1H
BEGIN:VTIMEZONE
TZID:America/New_York
BEGIN:DAYLIGHT
TZOFFSETFROM:-0500
TZOFFSETTO:-0400
TZNAME:EDT
DTSTART:20250309T070000
END:DAYLIGHT
BEGIN:STANDARD
TZOFFSETFROM:-0400
TZOFFSETTO:-0500
TZNAME:EST
DTSTART:20251102T060000
END:STANDARD
BEGIN:DAYLIGHT
TZOFFSETFROM:-0500
TZOFFSETTO:-0400
TZNAME:EDT
DTSTART:20260308T070000
END:DAYLIGHT
BEGIN:STANDARD
TZOFFSETFROM:-0400
TZOFFSETTO:-0500
TZNAME:EST
DTSTART:20261101T060000
END:STANDARD
BEGIN:DAYLIGHT
TZOFFSETFROM:-0500
TZOFFSETTO:-0400
TZNAME:EDT
DTSTART:20270314T070000
END:DAYLIGHT
BEGIN:STANDARD
TZOFFSETFROM:-0400
TZOFFSETTO:-0500
TZNAME:EST
DTSTART:20271107T060000
END:STANDARD
END:VTIMEZONE
BEGIN:VEVENT
DTSTART;TZID=America/New_York:20260315T080000
DTEND;TZID=America/New_York:20260315T170000
DTSTAMP:20260420T171339
CREATED:20260227T165932Z
LAST-MODIFIED:20260227T165932Z
UID:9308-1773561600-1773594000@ahckids.org
SUMMARY:The Caregiver’s Compass Training
DESCRIPTION:The Caregiver’s Compass is a free\, four-week virtual course designed for parents and caregivers who want practical tools and meaningful connection.\nThroughout this interactive series\, caregivers will:\n• Learn strategies for managing stress\n• Strengthen communication skills\n• Build tools to support mental wellbeing\n• Connect in a supportive\, community-centered space\nEach live session is guided by licensed therapist Brad Thompson\, offering expert insight in a compassionate and welcoming environment.\n🗓 Register by March 15\n🔗 Sign up here:\nhttps://www.surveymonkey.com/r/CaregiversCompass\nFor more information:\nhttps://tinyurl.com/3w3rkaz6
URL:https://ahckids.org/event/the-caregivers-compass-training/
ATTACH;FMTTYPE=image/jpeg:https://ahckids.org/wp-content/uploads/2026/02/Caregivers-Compass-flyer2-e1772211376776.jpg
END:VEVENT
END:VCALENDAR