BEGIN:VCALENDAR
VERSION:2.0
PRODID:-//AHCF - ECPv6.15.20//NONSGML v1.0//EN
CALSCALE:GREGORIAN
METHOD:PUBLISH
X-WR-CALNAME:AHCF
X-ORIGINAL-URL:https://ahckids.org
X-WR-CALDESC:Events for AHCF
REFRESH-INTERVAL;VALUE=DURATION:PT1H
X-Robots-Tag:noindex
X-PUBLISHED-TTL:PT1H
BEGIN:VTIMEZONE
TZID:America/New_York
BEGIN:DAYLIGHT
TZOFFSETFROM:-0500
TZOFFSETTO:-0400
TZNAME:EDT
DTSTART:20250309T070000
END:DAYLIGHT
BEGIN:STANDARD
TZOFFSETFROM:-0400
TZOFFSETTO:-0500
TZNAME:EST
DTSTART:20251102T060000
END:STANDARD
BEGIN:DAYLIGHT
TZOFFSETFROM:-0500
TZOFFSETTO:-0400
TZNAME:EDT
DTSTART:20260308T070000
END:DAYLIGHT
BEGIN:STANDARD
TZOFFSETFROM:-0400
TZOFFSETTO:-0500
TZNAME:EST
DTSTART:20261101T060000
END:STANDARD
BEGIN:DAYLIGHT
TZOFFSETFROM:-0500
TZOFFSETTO:-0400
TZNAME:EDT
DTSTART:20270314T070000
END:DAYLIGHT
BEGIN:STANDARD
TZOFFSETFROM:-0400
TZOFFSETTO:-0500
TZNAME:EST
DTSTART:20271107T060000
END:STANDARD
END:VTIMEZONE
BEGIN:VEVENT
DTSTART;TZID=America/New_York:20260924T080000
DTEND;TZID=America/New_York:20260926T170000
DTSTAMP:20260420T200641
CREATED:20260115T153305Z
LAST-MODIFIED:20260202T082055Z
UID:8849-1790236800-1790442000@ahckids.org
SUMMARY:14th ATP1A3 Symposium
DESCRIPTION:The French AHC Family Association (AFHA) is honoured and delighted to announce that the 14th ATP1A3 in disease Symposium will take place at the at the Pitié-Salpêtrière Hospital in PARIS\, France from Thursday 24th September to Saturday 26th September 2026. \nThursday\, September 24th\, 2026 will be for meeting associations and families concerned by ATP1A3 diseases. \n\nThe scientific meeting will be on Friday 25th and Saturday 26th September.\nDownload the Welcome letter by the  2026 Organising Committee
URL:https://ahckids.org/event/14th-atp1a3-symposium/
ATTACH;FMTTYPE=image/jpeg:https://ahckids.org/wp-content/uploads/2025/12/14th_symposium_on_atp1a3_in_disease_paris_2026_logo-e1764775968213.jpg
END:VEVENT
END:VCALENDAR