BEGIN:VCALENDAR
VERSION:2.0
PRODID:-//AHCF - ECPv6.15.20//NONSGML v1.0//EN
CALSCALE:GREGORIAN
METHOD:PUBLISH
X-ORIGINAL-URL:https://ahckids.org
X-WR-CALDESC:Events for AHCF
REFRESH-INTERVAL;VALUE=DURATION:PT1H
X-Robots-Tag:noindex
X-PUBLISHED-TTL:PT1H
BEGIN:VTIMEZONE
TZID:America/New_York
BEGIN:DAYLIGHT
TZOFFSETFROM:-0500
TZOFFSETTO:-0400
TZNAME:EDT
DTSTART:20250309T070000
END:DAYLIGHT
BEGIN:STANDARD
TZOFFSETFROM:-0400
TZOFFSETTO:-0500
TZNAME:EST
DTSTART:20251102T060000
END:STANDARD
BEGIN:DAYLIGHT
TZOFFSETFROM:-0500
TZOFFSETTO:-0400
TZNAME:EDT
DTSTART:20260308T070000
END:DAYLIGHT
BEGIN:STANDARD
TZOFFSETFROM:-0400
TZOFFSETTO:-0500
TZNAME:EST
DTSTART:20261101T060000
END:STANDARD
BEGIN:DAYLIGHT
TZOFFSETFROM:-0500
TZOFFSETTO:-0400
TZNAME:EDT
DTSTART:20270314T070000
END:DAYLIGHT
BEGIN:STANDARD
TZOFFSETFROM:-0400
TZOFFSETTO:-0500
TZNAME:EST
DTSTART:20271107T060000
END:STANDARD
END:VTIMEZONE
BEGIN:VEVENT
DTSTART;TZID=America/New_York:20260114T130000
DTEND;TZID=America/New_York:20260114T140000
DTSTAMP:20260421T040409
CREATED:20260105T204737Z
LAST-MODIFIED:20260105T204849Z
UID:8887-1768395600-1768399200@ahckids.org
SUMMARY:AHCF Family Circle - You're Invited - 1/14/26
DESCRIPTION:Join us for our next AHCF Family Circle on Wednesday\, January  14th at 10am PST/ 12pm CST/ 1pm EST. \nThis is a support group for parents of individuals with AHC. Share your challenges and joys in this informal setting. Connect with others on this journey! \nIf you have questions\, please email Heather Gates at Heather@ahckids.org. We look forward to seeing you. \nJoin Zoom Meeting: https://us02web.zoom.us/j/85227963024 \nNeed a Reminder? \nSign up for text message reminders for AHC Family Circle at: https://www.remind.com/join/ahcfamily
URL:https://ahckids.org/event/ahcf-family-circle-youre-invited-1-14-26/
CATEGORIES:Upcoming Events
ATTACH;FMTTYPE=image/png:https://ahckids.org/wp-content/uploads/2025/10/AHC-Family-Circle-6.png
END:VEVENT
END:VCALENDAR