BEGIN:VCALENDAR
VERSION:2.0
PRODID:-//AHCF - ECPv6.15.20//NONSGML v1.0//EN
CALSCALE:GREGORIAN
METHOD:PUBLISH
X-WR-CALNAME:AHCF
X-ORIGINAL-URL:https://ahckids.org
X-WR-CALDESC:Events for AHCF
REFRESH-INTERVAL;VALUE=DURATION:PT1H
X-Robots-Tag:noindex
X-PUBLISHED-TTL:PT1H
BEGIN:VTIMEZONE
TZID:UTC
BEGIN:STANDARD
TZOFFSETFROM:+0000
TZOFFSETTO:+0000
TZNAME:UTC
DTSTART:20220101T000000
END:STANDARD
END:VTIMEZONE
BEGIN:VEVENT
DTSTART;VALUE=DATE:20230930
DTEND;VALUE=DATE:20231001
DTSTAMP:20260421T012112
CREATED:20230510T024934Z
LAST-MODIFIED:20230822T051220Z
UID:2734-1696032000-1696118399@ahckids.org
SUMMARY:Race to End AHC
DESCRIPTION:September 30\, 2023 \nAnnual virtual race to raise funds and awareness to end AHC.
URL:https://ahckids.org/event/race-to-end-ahc/
LOCATION:TX
ATTACH;FMTTYPE=image/jpeg:https://ahckids.org/wp-content/uploads/2023/05/Event-9.jpg
END:VEVENT
BEGIN:VEVENT
DTSTART;VALUE=DATE:20230622
DTEND;VALUE=DATE:20230626
DTSTAMP:20260421T012112
CREATED:20230510T024739Z
LAST-MODIFIED:20241029T143147Z
UID:2731-1687392000-1687737599@ahckids.org
SUMMARY:AHCF Family Meeting 2023
DESCRIPTION:June 22-25 \nEmbassy Suites \nGlendale Los Angeles\, California \nLearn More About Family Meetings
URL:https://ahckids.org/event/ahcf-family-meeting-2023/
LOCATION:TX
ATTACH;FMTTYPE=image/jpeg:https://ahckids.org/wp-content/uploads/2023/05/Event-8.jpg
END:VEVENT
BEGIN:VEVENT
DTSTART;VALUE=DATE:20230601
DTEND;VALUE=DATE:20230602
DTSTAMP:20260421T012112
CREATED:20230510T024623Z
LAST-MODIFIED:20230510T024623Z
UID:2729-1685577600-1685663999@ahckids.org
SUMMARY:Happy Birthday Sean!
DESCRIPTION:June 1\, 2023 \nSean Gerber turns 20 today\, join us in wishing her a happy birthday and give the gift of hope for an AHC future by donating to AHCF.
URL:https://ahckids.org/event/happy-birthday-sean/
LOCATION:TX
END:VEVENT
BEGIN:VEVENT
DTSTART;VALUE=DATE:20240229
DTEND;VALUE=DATE:20240301
DTSTAMP:20260421T012112
CREATED:20230426T200030Z
LAST-MODIFIED:20240115T011750Z
UID:569-1709164800-1709251199@ahckids.org
SUMMARY:Rare Disease Day
DESCRIPTION:Join people around the world raising awareness for AHC and thousands of rare diseases. Share our Facebook and Instagram posts!
URL:https://ahckids.org/event/rare-disease-day/
LOCATION:square lorem\, Town Center Suite 1900\, Southfield\, AL\, 48075\, United States
ATTACH;FMTTYPE=image/jpeg:https://ahckids.org/wp-content/uploads/2023/04/Event-1.jpg
END:VEVENT
BEGIN:VEVENT
DTSTART;VALUE=DATE:20230510
DTEND;VALUE=DATE:20230511
DTSTAMP:20260421T012112
CREATED:20230510T024419Z
LAST-MODIFIED:20230510T024419Z
UID:2723-1683676800-1683763199@ahckids.org
SUMMARY:Happy Birthday Kiley!
DESCRIPTION:May 10\, 2023 \nKiley Andrasco turns 22 today\, join us in wishing her a happy birthday and give the gift of hope for an AHC free future by donating to AHCF.
URL:https://ahckids.org/event/happy-birthday-kiley/
LOCATION:TX
END:VEVENT
BEGIN:VEVENT
DTSTART;VALUE=DATE:20230214
DTEND;VALUE=DATE:20230215
DTSTAMP:20260421T012112
CREATED:20230510T024321Z
LAST-MODIFIED:20230510T024321Z
UID:2720-1676332800-1676419199@ahckids.org
SUMMARY:Valentine's Card Exchange
DESCRIPTION:February 1-14 \nAHCF parent\, Heather Gates\, and daughter Jocelyn\, host an annual Valentine’s Card exchange for people with AHC of all ages! \nEmail heather@ahckids.org to join!
URL:https://ahckids.org/event/valentines-card-exchange/
LOCATION:TX
ATTACH;FMTTYPE=image/jpeg:https://ahckids.org/wp-content/uploads/2023/05/Event-3.jpg
END:VEVENT
BEGIN:VEVENT
DTSTART;TZID=UTC:20230203T170000
DTEND;TZID=UTC:20230203T170000
DTSTAMP:20260421T012112
CREATED:20230508T170545Z
LAST-MODIFIED:20230726T223838Z
UID:1540-1675443600-1675443600@ahckids.org
SUMMARY:Warriors for Kathryn
DESCRIPTION:FRIDAY FEBRUARY 3\, 2023 \n5PM \nExpo Hall – 2691 N. Park Rd. Connersville\, IN \nHelp support a worthy cause through Warriors for Kathryn at Expo Hall in Connersville! Follow the event page on Facebook at https://fb.me/e/3F5hfAh9p for more information on Wine Bingo\, Texas Hold’em\, Dinner\, Basket Raffle\, Quilt Raffle\, and more!
URL:https://ahckids.org/event/warriors-for-kathryn/
LOCATION:TX
ATTACH;FMTTYPE=image/jpeg:https://ahckids.org/wp-content/uploads/2023/05/Event-2.jpg
END:VEVENT
BEGIN:VEVENT
DTSTART;VALUE=DATE:20230118
DTEND;VALUE=DATE:20230119
DTSTAMP:20260421T012112
CREATED:20230510T025130Z
LAST-MODIFIED:20230510T025130Z
UID:2737-1674000000-1674086399@ahckids.org
SUMMARY:International AHC DAY
DESCRIPTION:January 18\, 2023 \nJoin us as we spread awareness and raise funds to end AHC on the anniversary of the discovery of the gene that causes AHC: ATP1A3.
URL:https://ahckids.org/event/international-ahc-day/
LOCATION:TX
ATTACH;FMTTYPE=image/jpeg:https://ahckids.org/wp-content/uploads/2023/05/Event-10.jpg
END:VEVENT
END:VCALENDAR