BEGIN:VCALENDAR
VERSION:2.0
PRODID:-//AHCF - ECPv6.15.20//NONSGML v1.0//EN
CALSCALE:GREGORIAN
METHOD:PUBLISH
X-WR-CALNAME:AHCF
X-ORIGINAL-URL:https://ahckids.org
X-WR-CALDESC:Events for AHCF
REFRESH-INTERVAL;VALUE=DURATION:PT1H
X-Robots-Tag:noindex
X-PUBLISHED-TTL:PT1H
BEGIN:VTIMEZONE
TZID:America/New_York
BEGIN:DAYLIGHT
TZOFFSETFROM:-0500
TZOFFSETTO:-0400
TZNAME:EDT
DTSTART:20250309T070000
END:DAYLIGHT
BEGIN:STANDARD
TZOFFSETFROM:-0400
TZOFFSETTO:-0500
TZNAME:EST
DTSTART:20251102T060000
END:STANDARD
BEGIN:DAYLIGHT
TZOFFSETFROM:-0500
TZOFFSETTO:-0400
TZNAME:EDT
DTSTART:20260308T070000
END:DAYLIGHT
BEGIN:STANDARD
TZOFFSETFROM:-0400
TZOFFSETTO:-0500
TZNAME:EST
DTSTART:20261101T060000
END:STANDARD
BEGIN:DAYLIGHT
TZOFFSETFROM:-0500
TZOFFSETTO:-0400
TZNAME:EDT
DTSTART:20270314T070000
END:DAYLIGHT
BEGIN:STANDARD
TZOFFSETFROM:-0400
TZOFFSETTO:-0500
TZNAME:EST
DTSTART:20271107T060000
END:STANDARD
END:VTIMEZONE
BEGIN:VEVENT
DTSTART;TZID=America/New_York:20260311T130000
DTEND;TZID=America/New_York:20260311T140000
DTSTAMP:20260420T155527
CREATED:20260401T040011Z
LAST-MODIFIED:20260319T185225Z
UID:9057-1773234000-1773237600@ahckids.org
SUMMARY:AHCF Family Circle - You're Invited - 3/11/26
DESCRIPTION:Join us for our next AHCF Family Circle on Wednesday\, March 11th at 10am PST/ 12pm CST/ 1pm EST. \nThis is a support group for parents of individuals with AHC. Share your challenges and joys in this informal setting. Connect with others on this journey! \nIf you have questions\, please email Heather Gates at Heather@ahckids.org. We look forward to seeing you. \nJoin Zoom Meeting: https://us02web.zoom.us/j/85227963024 \nNeed a Reminder? \nSign up for text message reminders for AHC Family Circle at: https://www.remind.com/join/familyahc
URL:https://ahckids.org/event/ahcf-family-circle-youre-invited-21126-copy/
CATEGORIES:Upcoming Events
ATTACH;FMTTYPE=image/png:https://ahckids.org/wp-content/uploads/2025/10/AHC-Family-Circle-6.png
END:VEVENT
BEGIN:VEVENT
DTSTART;TZID=America/New_York:20260312T120000
DTEND;TZID=America/New_York:20260312T130000
DTSTAMP:20260420T155527
CREATED:20260306T145201Z
LAST-MODIFIED:20260306T145258Z
UID:9347-1773316800-1773320400@ahckids.org
SUMMARY:Parent University - Good Debt vs Bad Debt in Special Needs Trust
DESCRIPTION:Demystifying debt 💵 \nJoin Protected Tomorrows’ Parent University Class 3 for a candid conversation regarding debt. In this class\, we will discuss: \n➡️Is there really such a thing as good debt?\n➡️ When should you pay down debt?\n➡️ Is there a creative way to use debt to fund a special needs trust? \n📅 March 12\, 2026\n⏰ 12 – 1pm CDT\n💻 Zoom Webinar \n🔗Register TODAY: https://protectedtomorrows.com/…/parent-university…/ \nEven if you cannot attend the webinar\, register to receive an email with a link to watch the recording in the following week.
URL:https://ahckids.org/event/parent-university-good-debt-vs-bad-debt-in-special-needs-trust/
ATTACH;FMTTYPE=image/jpeg:https://ahckids.org/wp-content/uploads/2025/10/Parent-University-e1759906680597.jpg
END:VEVENT
BEGIN:VEVENT
DTSTART;TZID=America/New_York:20260315T080000
DTEND;TZID=America/New_York:20260315T170000
DTSTAMP:20260420T155527
CREATED:20260227T165932Z
LAST-MODIFIED:20260227T165932Z
UID:9308-1773561600-1773594000@ahckids.org
SUMMARY:The Caregiver’s Compass Training
DESCRIPTION:The Caregiver’s Compass is a free\, four-week virtual course designed for parents and caregivers who want practical tools and meaningful connection.\nThroughout this interactive series\, caregivers will:\n• Learn strategies for managing stress\n• Strengthen communication skills\n• Build tools to support mental wellbeing\n• Connect in a supportive\, community-centered space\nEach live session is guided by licensed therapist Brad Thompson\, offering expert insight in a compassionate and welcoming environment.\n🗓 Register by March 15\n🔗 Sign up here:\nhttps://www.surveymonkey.com/r/CaregiversCompass\nFor more information:\nhttps://tinyurl.com/3w3rkaz6
URL:https://ahckids.org/event/the-caregivers-compass-training/
ATTACH;FMTTYPE=image/jpeg:https://ahckids.org/wp-content/uploads/2026/02/Caregivers-Compass-flyer2-e1772211376776.jpg
END:VEVENT
BEGIN:VEVENT
DTSTART;TZID=America/New_York:20260325T190000
DTEND;TZID=America/New_York:20260325T210000
DTSTAMP:20260420T155527
CREATED:20260312T144735Z
LAST-MODIFIED:20260312T144830Z
UID:9358-1774465200-1774472400@ahckids.org
SUMMARY:How Your AHC Data Drives Research and Improves Care - Webinar 3/25
DESCRIPTION:Join us for an upcoming 𝗔𝗛𝗖 𝗥𝗲𝘀𝗲𝗮𝗿𝗰𝗵 𝗪𝗲𝗯𝗶𝗻𝗮𝗿 featuring 𝗗𝗿. 𝗡𝘂𝘁𝗮𝗻 𝗦𝗵𝗮𝗿𝗺𝗮 𝗳𝗿𝗼𝗺 𝗛𝗮𝗿𝘃𝗮𝗿𝗱 𝗨𝗻𝗶𝘃𝗲𝗿𝘀𝗶𝘁𝘆 𝗮𝗻𝗱 𝗠𝗮𝘀𝘀𝗮𝗰𝗵𝘂𝘀𝗲𝘁𝘁𝘀 𝗚𝗲𝗻𝗲𝗿𝗮𝗹 𝗛𝗼𝘀𝗽𝗶𝘁𝗮𝗹. \n📅 March 25th\n⏰ 7:00 PM EDT\nRegister Here: 🔗 https://tinyurl.com/ypdh3wua \nDr. Sharma will introduce a 𝗻𝗲𝘄 𝘁𝘄𝗼-𝘆𝗲𝗮𝗿 𝗔𝗛𝗖 𝘀𝘁𝘂𝗱𝘆 designed to better understand how AHC evolves from childhood through adulthood.\nThis first-of-its-kind study will bring together 𝗽𝗲𝗱𝗶𝗮𝘁𝗿𝗶𝗰 𝗮𝗻𝗱 𝗮𝗱𝘂𝗹𝘁 𝗺𝗼𝘃𝗲𝗺𝗲𝗻𝘁 𝗱𝗶𝘀𝗼𝗿𝗱𝗲𝗿 𝘀𝗽𝗲𝗰𝗶𝗮𝗹𝗶𝘀𝘁𝘀 to study the entire AHC community.\nThe research aims to:\n• Understand how AHC changes over time\, including during puberty\n• Identify measurable indicators of disease severity\n• Improve ICU and emergency care protocols for AHC patients\nTo reduce the travel burden for families\, the study will offer 𝗺𝘂𝗹𝘁𝗶𝗽𝗹𝗲 𝗽𝗮𝗿𝘁𝗶𝗰𝗶𝗽𝗮𝘁𝗶𝗼𝗻 𝗼𝗽𝘁𝗶𝗼𝗻𝘀\, including:\n• In-person visits at family meetings\n• Regional appointments\n• Telehealth visits\n• Home collection kits\nCome learn about this exciting opportunity and 𝗵𝗮𝘃𝗲 𝘆𝗼𝘂𝗿 𝗾𝘂𝗲𝘀𝘁𝗶𝗼𝗻𝘀 𝗮𝗻𝘀𝘄𝗲𝗿𝗲𝗱 𝗱𝗶𝗿𝗲𝗰𝘁𝗹𝘆 𝗯𝘆 𝗗𝗿. 𝗦𝗵𝗮𝗿𝗺𝗮.\n📅 March 25th\n⏰ 7:00 PM EDT\n🔗 https://tinyurl.com/ypdh3wua
URL:https://ahckids.org/event/how-your-ahc-data-drives-research-and-improves-care-webinar-3-25/
ATTACH;FMTTYPE=image/jpeg:https://ahckids.org/wp-content/uploads/2026/03/Sharma-Webinar-e1773326801200.jpg
END:VEVENT
END:VCALENDAR